BEGIN:VCALENDAR
VERSION:2.0
PRODID:-//Facultad de Economía y Negocios - ECPv5.14.1//NONSGML v1.0//EN
CALSCALE:GREGORIAN
METHOD:PUBLISH
X-WR-CALNAME:Facultad de Economía y Negocios
X-ORIGINAL-URL:https://fen.uahurtado.cl
X-WR-CALDESC:Eventos para Facultad de Economía y Negocios
BEGIN:VTIMEZONE
TZID:America/Santiago
BEGIN:STANDARD
TZOFFSETFROM:-0300
TZOFFSETTO:-0400
TZNAME:-04
DTSTART:20190407T030000
END:STANDARD
BEGIN:DAYLIGHT
TZOFFSETFROM:-0400
TZOFFSETTO:-0300
TZNAME:-03
DTSTART:20190908T040000
END:DAYLIGHT
END:VTIMEZONE
BEGIN:VEVENT
DTSTART;TZID=America/Santiago:20190624T150000
DTEND;TZID=America/Santiago:20190624T170000
DTSTAMP:20260425T091019
CREATED:20190608T123914Z
LAST-MODIFIED:20190608T124457Z
UID:19808-1561388400-1561395600@fen.uahurtado.cl
SUMMARY:Seminario académico de Economía: Caio Machado
DESCRIPTION:La Facultad de Economía y Negocios de la UAH tiene el agrado de invitarle al Ciclo de Seminarios Académicos de Economía 2019. \n\nInvitado: Caio Machado (Pontificia Universidad Católica)\nLugar: A11 | Almirante Barroso 10\nFecha y horario: 24 de junio\, 15:00 hrs.
URL:https://fen.uahurtado.cl/calendario/seminario-academico-de-economia-caio-machado/
LOCATION:Universidad Alberto Hurtado\, Almirante Barroso 10\, Santiago\, Región Metropolitana\, 8340575\, Chile
CATEGORIES:Eventos Economía
END:VEVENT
END:VCALENDAR