BEGIN:VCALENDAR
VERSION:2.0
PRODID:-//Facultad de Economía y Negocios - ECPv5.14.1//NONSGML v1.0//EN
CALSCALE:GREGORIAN
METHOD:PUBLISH
X-WR-CALNAME:Facultad de Economía y Negocios
X-ORIGINAL-URL:https://fen.uahurtado.cl
X-WR-CALDESC:Eventos para Facultad de Economía y Negocios
BEGIN:VTIMEZONE
TZID:America/Santiago
BEGIN:STANDARD
TZOFFSETFROM:-0300
TZOFFSETTO:-0400
TZNAME:-04
DTSTART:20190407T030000
END:STANDARD
BEGIN:DAYLIGHT
TZOFFSETFROM:-0400
TZOFFSETTO:-0300
TZNAME:-03
DTSTART:20190908T040000
END:DAYLIGHT
END:VTIMEZONE
BEGIN:VEVENT
DTSTART;TZID=America/Santiago:20190813T190000
DTEND;TZID=America/Santiago:20190813T190000
DTSTAMP:20260424T080836
CREATED:20190608T124901Z
LAST-MODIFIED:20190701T170035Z
UID:19818-1565722800-1565722800@fen.uahurtado.cl
SUMMARY:Graduación Postgrados y Educación Continua
DESCRIPTION:Lugar: Aula Magna | Almirante Barroso 10\nFecha y horario: 13 de agosto\, 19:00 hrs.
URL:https://fen.uahurtado.cl/calendario/graduacion-postgrados-y-educacion-continua/
LOCATION:Universidad Alberto Hurtado\, Almirante Barroso 10\, Santiago\, Región Metropolitana\, 8340575\, Chile
CATEGORIES:Eventos Economía,Eventos Gestión y Negocios
END:VEVENT
END:VCALENDAR