BEGIN:VCALENDAR
VERSION:2.0
PRODID:-//Facultad de Economía y Negocios - ECPv5.14.1//NONSGML v1.0//EN
CALSCALE:GREGORIAN
METHOD:PUBLISH
X-WR-CALNAME:Facultad de Economía y Negocios
X-ORIGINAL-URL:https://fen.uahurtado.cl
X-WR-CALDESC:Eventos para Facultad de Economía y Negocios
BEGIN:VTIMEZONE
TZID:America/Santiago
BEGIN:STANDARD
TZOFFSETFROM:-0300
TZOFFSETTO:-0400
TZNAME:-04
DTSTART:20190407T030000
END:STANDARD
BEGIN:DAYLIGHT
TZOFFSETFROM:-0400
TZOFFSETTO:-0300
TZNAME:-03
DTSTART:20190908T040000
END:DAYLIGHT
END:VTIMEZONE
BEGIN:VEVENT
DTSTART;TZID=America/Santiago:20190823T090000
DTEND;TZID=America/Santiago:20190823T090000
DTSTAMP:20260424T141909
CREATED:20190608T124606Z
LAST-MODIFIED:20190801T152229Z
UID:19816-1566550800-1566550800@fen.uahurtado.cl
SUMMARY:Lanzamiento Informe de Huelgas 2018
DESCRIPTION:  \n\nLugar: Aula Magna | Almirante Barroso 10\nFecha y horario: 23 de agosto\, 09:00 hrs.
URL:https://fen.uahurtado.cl/calendario/lanzamiento-informa-de-huelgas-2018/
LOCATION:Universidad Alberto Hurtado\, Almirante Barroso 10\, Santiago\, Región Metropolitana\, 8340575\, Chile
CATEGORIES:Eventos Gestión y Negocios
ATTACH;FMTTYPE=image/jpeg:https://fen.uahurtado.cl/wp-content/uploads/2019/06/huelga-gobierno.jpg
END:VEVENT
END:VCALENDAR