BEGIN:VCALENDAR
VERSION:2.0
PRODID:-//Facultad de Economía y Negocios - ECPv5.14.1//NONSGML v1.0//EN
CALSCALE:GREGORIAN
METHOD:PUBLISH
X-WR-CALNAME:Facultad de Economía y Negocios
X-ORIGINAL-URL:https://fen.uahurtado.cl
X-WR-CALDESC:Eventos para Facultad de Economía y Negocios
BEGIN:VTIMEZONE
TZID:America/Santiago
BEGIN:STANDARD
TZOFFSETFROM:-0300
TZOFFSETTO:-0400
TZNAME:-04
DTSTART:20190407T030000
END:STANDARD
BEGIN:DAYLIGHT
TZOFFSETFROM:-0400
TZOFFSETTO:-0300
TZNAME:-03
DTSTART:20190908T040000
END:DAYLIGHT
END:VTIMEZONE
BEGIN:VEVENT
DTSTART;TZID=America/Santiago:20190829T084500
DTEND;TZID=America/Santiago:20190829T110000
DTSTAMP:20260424T145350
CREATED:20190826T154034Z
LAST-MODIFIED:20190826T154034Z
UID:20135-1567068300-1567076400@fen.uahurtado.cl
SUMMARY:Lanzamiento Manual de Adaptabilidad Laboral para la Incorporación de Mujeres al Mundo Laboral
DESCRIPTION:Eduardo Silva\, Rector de la Universidad Alberto Hurtado\, la Delegación de la Unión Europea en Chile y Fundación ChileMujeres\, le saludan cordialmente y tienen el agrado de invitar a usted al lanzamiento del Manual de Adaptabilidad Laboral para la Incorporación de Mujeres al Mundo Laboral\, herramienta metodológica desarrollada en el marco del proyecto Fomento a la Igualdad de Género en el Trabajo financiado por la Unión Europea. La ejecución de este proyecto es a través Facultad de Economía y Negocios de la Universidad Alberto Hurtado en colaboración con la Fundación ChileMujeres.
URL:https://fen.uahurtado.cl/calendario/lanzamiento-manual-de-adaptabilidad-laboral-para-la-incorporacion-de-mujeres-al-mundo-laboral/
END:VEVENT
END:VCALENDAR