BEGIN:VCALENDAR
VERSION:2.0
PRODID:-//Facultad de Economía y Negocios - ECPv5.14.1//NONSGML v1.0//EN
CALSCALE:GREGORIAN
METHOD:PUBLISH
X-WR-CALNAME:Facultad de Economía y Negocios
X-ORIGINAL-URL:https://fen.uahurtado.cl
X-WR-CALDESC:Eventos para Facultad de Economía y Negocios
BEGIN:VTIMEZONE
TZID:America/Santiago
BEGIN:STANDARD
TZOFFSETFROM:-0300
TZOFFSETTO:-0400
TZNAME:-04
DTSTART:20190407T030000
END:STANDARD
BEGIN:DAYLIGHT
TZOFFSETFROM:-0400
TZOFFSETTO:-0300
TZNAME:-03
DTSTART:20190908T040000
END:DAYLIGHT
END:VTIMEZONE
BEGIN:VEVENT
DTSTART;TZID=America/Santiago:20191029T150000
DTEND;TZID=America/Santiago:20191029T150000
DTSTAMP:20260422T225011
CREATED:20190826T220800Z
LAST-MODIFIED:20190826T220800Z
UID:20186-1572361200-1572361200@fen.uahurtado.cl
SUMMARY:Seminario académico de Economía: Juan Pablo Montero
DESCRIPTION:La Facultad de Economía y Negocios de la UAH tiene el agrado de invitarle al Ciclo de Seminarios Académicos de Economía 2019. \n\nInvitado: Juan Pablo Montero (PUC). Ph.D.\, Instituto Tecnológico de Massachusetts (MIT). Profesor Titular\, Instituto de Economía\, Pontificia Universidad Católica de Chile.\nLugar: A11 | Almirante Barroso 10\nFecha y horario: 29 de octubre\, 15:00 hrs.
URL:https://fen.uahurtado.cl/calendario/seminario-academico-de-economia-juan-pablo-montero/
LOCATION:Universidad Alberto Hurtado\, Almirante Barroso 10\, Santiago\, Región Metropolitana\, 8340575\, Chile
CATEGORIES:Eventos Economía
END:VEVENT
END:VCALENDAR