BEGIN:VCALENDAR
VERSION:2.0
PRODID:-//Facultad de Economía y Negocios - ECPv5.14.1//NONSGML v1.0//EN
CALSCALE:GREGORIAN
METHOD:PUBLISH
X-WR-CALNAME:Facultad de Economía y Negocios
X-ORIGINAL-URL:https://fen.uahurtado.cl
X-WR-CALDESC:Eventos para Facultad de Economía y Negocios
BEGIN:VTIMEZONE
TZID:America/Santiago
BEGIN:STANDARD
TZOFFSETFROM:-0300
TZOFFSETTO:-0400
TZNAME:-04
DTSTART:20200405T030000
END:STANDARD
BEGIN:DAYLIGHT
TZOFFSETFROM:-0400
TZOFFSETTO:-0300
TZNAME:-03
DTSTART:20200906T040000
END:DAYLIGHT
END:VTIMEZONE
BEGIN:VEVENT
DTSTART;TZID=America/Santiago:20200528T190000
DTEND;TZID=America/Santiago:20200528T200000
DTSTAMP:20260421T200552
CREATED:20200519T180519Z
LAST-MODIFIED:20200519T180519Z
UID:21354-1590692400-1590696000@fen.uahurtado.cl
SUMMARY:Seminario "Aplicando IFRS en momentos de crisis"
DESCRIPTION:La Facultad de Economía y Negocios UAH\, le invita a los seminarios de contabilidad. En la ocasión\, se discutirá con especialistas del área de contabilidad y finanzas los impactos de la crisis en las empresas\, qué se puede esperar en las próximas publicaciones de estados financieros  y qué herramientas tienen las empresas a disposición para divulgar estos impactos bajo las normas internacionales de información financiera. \nEn este grave momento que está pasando Chile y el mundo\, muchas empresas enfrentan problemas de liquidez en un entorno caracterizado por mayor volatilidad y erosión del mercado financiero\, deterioro del crédito\, quiebra de términos contractuales\, aumento de los niveles de inventario y reducciones en la producción junto con un sin números de actividades de reestructuración. La contabilidad financiera\, al entregar información oportuna a los tomadores de decisión financiera en este contexto\, se hace muy relevante ya que nos entrega los instrumentos informacionales necesarios para atravesar estos tiempos turbulentos. \nActividad gratuita \nInscríbete previamente aquí https://bit.ly/2z57nlw y recibe el link de acceso al conversatorio directamente a tu correo electrónico. \n+INFO: https://bit.ly/2TnB6wL
URL:https://fen.uahurtado.cl/calendario/seminario-aplicando-ifrs-en-momentos-de-crisis/
CATEGORIES:Eventos Gestión y Negocios
END:VEVENT
END:VCALENDAR