BEGIN:VCALENDAR
VERSION:2.0
PRODID:-//Facultad de Economía y Negocios - ECPv5.14.1//NONSGML v1.0//EN
CALSCALE:GREGORIAN
METHOD:PUBLISH
X-WR-CALNAME:Facultad de Economía y Negocios
X-ORIGINAL-URL:https://fen.uahurtado.cl
X-WR-CALDESC:Eventos para Facultad de Economía y Negocios
BEGIN:VTIMEZONE
TZID:America/Santiago
BEGIN:STANDARD
TZOFFSETFROM:-0300
TZOFFSETTO:-0400
TZNAME:-04
DTSTART:20200405T030000
END:STANDARD
BEGIN:DAYLIGHT
TZOFFSETFROM:-0400
TZOFFSETTO:-0300
TZNAME:-03
DTSTART:20200906T040000
END:DAYLIGHT
END:VTIMEZONE
BEGIN:VEVENT
DTSTART;TZID=America/Santiago:20200626T140000
DTEND;TZID=America/Santiago:20200626T160000
DTSTAMP:20260421T114238
CREATED:20200624T222945Z
LAST-MODIFIED:20200624T223115Z
UID:21456-1593180000-1593187200@fen.uahurtado.cl
SUMMARY:Conversatorio "Dilemas de Gestión de Personas y Relaciones Laborales en Pandemia"
DESCRIPTION:La Facultad de Economía y Negocios en conjunto con la Facultad de Psicología de la UAH te invitan a participar del conversatorio «Dilemas de Gestión de Personas y Relaciones Laborales en Pandemia». \nEsta actividad se enmarca en la Inauguración del año académico del Magíster en Gestión de Personas en Organizaciones y contará con la participación de los académicos del programa: Eduardo Abarzúa\, Francisca Gutiérrez\, Juan Pablo Villanueva y Yerko Ljubetic. \nEl conversatorio se realizará a través de la plataforma Zoom. \nInscríbete aquí
URL:https://fen.uahurtado.cl/calendario/conversatorio-dilemas-de-gestion-de-personas-y-relaciones-laborales-en-pandemia/
CATEGORIES:Eventos Gestión y Negocios
ATTACH;FMTTYPE=image/jpeg:https://fen.uahurtado.cl/wp-content/uploads/2020/06/imagen_rrss.jpeg
END:VEVENT
END:VCALENDAR