BEGIN:VCALENDAR
VERSION:2.0
PRODID:-//Facultad de Economía y Negocios - ECPv5.14.1//NONSGML v1.0//EN
CALSCALE:GREGORIAN
METHOD:PUBLISH
X-WR-CALNAME:Facultad de Economía y Negocios
X-ORIGINAL-URL:https://fen.uahurtado.cl
X-WR-CALDESC:Eventos para Facultad de Economía y Negocios
BEGIN:VTIMEZONE
TZID:America/Santiago
BEGIN:STANDARD
TZOFFSETFROM:-0300
TZOFFSETTO:-0400
TZNAME:-04
DTSTART:20200405T030000
END:STANDARD
BEGIN:DAYLIGHT
TZOFFSETFROM:-0400
TZOFFSETTO:-0300
TZNAME:-03
DTSTART:20200906T040000
END:DAYLIGHT
END:VTIMEZONE
BEGIN:VEVENT
DTSTART;TZID=America/Santiago:20200703T110000
DTEND;TZID=America/Santiago:20200703T123000
DTSTAMP:20260421T082227
CREATED:20200624T223815Z
LAST-MODIFIED:20200624T223815Z
UID:21460-1593774000-1593779400@fen.uahurtado.cl
SUMMARY:Lanzamiento del "Manual para promover el enfoque de género en la cadena de suministro"
DESCRIPTION:La Facultad de Economía y Negocios de la Universidad Alberto Hurtado y la Unión Europea\, los invitan al lanzamiento del «Manual para promover el enfoque de género en la cadena de suministro»\, en el marco del Proyecto fomento a la igualdad de género en el trabajo financiado por la Unión Europea. \nExpondrán sobre los alcances del manual Bárbara Figueroa\, presidenta de la Central Unitaria de Trabajadores (CUT); Fabio Bertranou\,director de la oficina de la OIT para el Cono Sur de América Latina; y Claudia Donaire\, coordinadora del proyecto de Fomento a la Igualdad de Género en el Trabajo de la UAH. \nModerará la conversación el Director de RH Management\, Patricio Rifo. \nLa actividad se realizará el viernes 3 de julio a las 11:00 a través de la plataforma UAH TV Digital:  https://www.uahurtado.cl/tvdigital/
URL:https://fen.uahurtado.cl/calendario/lanzamiento-del-manual-para-promover-el-enfoque-de-genero-en-la-cadena-de-suministro/
CATEGORIES:Eventos Gestión y Negocios
ATTACH;FMTTYPE=image/jpeg:https://fen.uahurtado.cl/wp-content/uploads/2020/06/portada.jpg
END:VEVENT
END:VCALENDAR