BEGIN:VCALENDAR
VERSION:2.0
PRODID:-//Facultad de Economía y Negocios - ECPv5.14.1//NONSGML v1.0//EN
CALSCALE:GREGORIAN
METHOD:PUBLISH
X-WR-CALNAME:Facultad de Economía y Negocios
X-ORIGINAL-URL:https://fen.uahurtado.cl
X-WR-CALDESC:Eventos para Facultad de Economía y Negocios
BEGIN:VTIMEZONE
TZID:America/Santiago
BEGIN:STANDARD
TZOFFSETFROM:-0300
TZOFFSETTO:-0400
TZNAME:-04
DTSTART:20200405T030000
END:STANDARD
BEGIN:DAYLIGHT
TZOFFSETFROM:-0400
TZOFFSETTO:-0300
TZNAME:-03
DTSTART:20200906T040000
END:DAYLIGHT
END:VTIMEZONE
BEGIN:VEVENT
DTSTART;TZID=America/Santiago:20200724T100000
DTEND;TZID=America/Santiago:20200724T113000
DTSTAMP:20260421T114243
CREATED:20200715T223424Z
LAST-MODIFIED:20200715T224050Z
UID:21565-1595584800-1595590200@fen.uahurtado.cl
SUMMARY:Conversatorio "Bitácora de un equipo jugado por el plasma"
DESCRIPTION:La Facultad de Economía y Negocios UAH los invita a participar del conversatorio: “Bitácora de un equipo jugado por el plasma” \nEn esta oportunidad la periodista Sandra Radic entrevistará a Raimundo Gazitúa\, jefe de Hematología del Instituto Oncológico Fundación Arturo López Pérez (FALP)\, el cual nos presentará su experiencia y las tensiones en el proceso de investigación aplicada y desarrollo del plasma en pacientes con COVID-19. \nParticipan: \n\nSandra Radic\, Periodista\nRaimundo Gazitúa\, Jefe de Hematología del Instituto Oncológico Fundación Arturo López Pérez\nEduardo Abarzúa\, Decano Facultad de Economía y Negocios UAH\nPaola Bordón\, Directora Magíster en Economía Aplicada a Políticas Públicas\nCristian Geldes\, Director Departamento Gestión y Negocios FEN- UAH\n\nTransmisión en vivo por UAH TV Digital: https://bit.ly/3gCcJVk\nInscríbete aquí
URL:https://fen.uahurtado.cl/calendario/bitacora-de-un-equipo-jugado-por-el-plasma-plataforma-uah-tv-digital/
CATEGORIES:Eventos Economía,Eventos Gestión y Negocios
ATTACH;FMTTYPE=image/jpeg:https://fen.uahurtado.cl/wp-content/uploads/2020/07/raimundo-gacitua.jpg
END:VEVENT
END:VCALENDAR