BEGIN:VCALENDAR
VERSION:2.0
PRODID:-//Facultad de Economía y Negocios - ECPv5.14.1//NONSGML v1.0//EN
CALSCALE:GREGORIAN
METHOD:PUBLISH
X-WR-CALNAME:Facultad de Economía y Negocios
X-ORIGINAL-URL:https://fen.uahurtado.cl
X-WR-CALDESC:Eventos para Facultad de Economía y Negocios
BEGIN:VTIMEZONE
TZID:America/Santiago
BEGIN:STANDARD
TZOFFSETFROM:-0300
TZOFFSETTO:-0400
TZNAME:-04
DTSTART:20200405T030000
END:STANDARD
BEGIN:DAYLIGHT
TZOFFSETFROM:-0400
TZOFFSETTO:-0300
TZNAME:-03
DTSTART:20200906T040000
END:DAYLIGHT
END:VTIMEZONE
BEGIN:VEVENT
DTSTART;TZID=America/Santiago:20200730T180000
DTEND;TZID=America/Santiago:20200730T193000
DTSTAMP:20260421T131831
CREATED:20200715T223846Z
LAST-MODIFIED:20200715T224009Z
UID:21568-1596132000-1596137400@fen.uahurtado.cl
SUMMARY:Lanzamiento del Manual de "Selección de Personas con Enfoque de Género"
DESCRIPTION:Lade la Universidad Alberto Hurtado\, la Unión Europea y la Fundación ChileMujeres\, los invitan al lanzamiento del Manual de “Selección de Personas con Enfoque de Género“\, en el marco del Proyecto Fomento a la igualdad de Género en el Trabajo financiado por la Unión Europea. \nParticipan: \n\nPamela Frías\, académica de la Facultad de Psicología de la UAH\nHans Eben\, Presidente de Red Pacto Global en Chile\nVerónica Campino\, Vice- Presidenta y directora de Fundación ChileMujeres\nAlejandro Weber\, Director Nacional del Servicio Civil y Presidente del Consejo de Alta Dirección Pública\nModerará la discusión Patricio Rifo\, Director de RH Management\n\nTransmisión en vivo por UAH TV Digital: https://bit.ly/3gCcJVk\nInscríbete aquí
URL:https://fen.uahurtado.cl/calendario/lanzamiento-del-manual-de-seleccion-de-personas-con-enfoque-de-genero/
CATEGORIES:Eventos Gestión y Negocios
ATTACH;FMTTYPE=image/jpeg:https://fen.uahurtado.cl/wp-content/uploads/2020/07/seleccion-de-personas-221x220-1.jpg
END:VEVENT
END:VCALENDAR