BEGIN:VCALENDAR
VERSION:2.0
PRODID:-//Facultad de Economía y Negocios - ECPv5.14.1//NONSGML v1.0//EN
CALSCALE:GREGORIAN
METHOD:PUBLISH
X-WR-CALNAME:Facultad de Economía y Negocios
X-ORIGINAL-URL:https://fen.uahurtado.cl
X-WR-CALDESC:Eventos para Facultad de Economía y Negocios
BEGIN:VTIMEZONE
TZID:America/Santiago
BEGIN:STANDARD
TZOFFSETFROM:-0300
TZOFFSETTO:-0400
TZNAME:-04
DTSTART:20200405T030000
END:STANDARD
BEGIN:DAYLIGHT
TZOFFSETFROM:-0400
TZOFFSETTO:-0300
TZNAME:-03
DTSTART:20200906T040000
END:DAYLIGHT
END:VTIMEZONE
BEGIN:VEVENT
DTSTART;TZID=America/Santiago:20200907T150000
DTEND;TZID=America/Santiago:20200907T160000
DTSTAMP:20260421T082207
CREATED:20200824T154235Z
LAST-MODIFIED:20200824T154235Z
UID:21847-1599490800-1599494400@fen.uahurtado.cl
SUMMARY:Presentación del Informe de Política Monetaria (IPoM)- septiembre 2020
DESCRIPTION:La Facultad de Economía y Negocios de la UAH te invita a la presentación del Informe de Política Monetaria (IPoM) correspondiente al mes de septiembre de 2020. \nEn esta oportunidad Elías Albagli\, Gerente de División Política Monetaria del Banco Central presentará las principales conclusiones del informe\, en conjunto con Carlos García\, académico FEN – UAH\, quien moderará la actividad. \nActividad gratuita. \nTransmitida en Plataforma UAH TV Digital: https://www.uahurtado.cl/tvdigital/ \nInscríbete aquí
URL:https://fen.uahurtado.cl/calendario/presentacion-del-informe-de-politica-monetaria-ipom-septiembre-2020/
CATEGORIES:Eventos Economía
ATTACH;FMTTYPE=image/jpeg:https://fen.uahurtado.cl/wp-content/uploads/2020/08/portada2-1.jpg
END:VEVENT
END:VCALENDAR