BEGIN:VCALENDAR
VERSION:2.0
PRODID:-//Facultad de Economía y Negocios - ECPv5.14.1//NONSGML v1.0//EN
CALSCALE:GREGORIAN
METHOD:PUBLISH
X-WR-CALNAME:Facultad de Economía y Negocios
X-ORIGINAL-URL:https://fen.uahurtado.cl
X-WR-CALDESC:Eventos para Facultad de Economía y Negocios
BEGIN:VTIMEZONE
TZID:America/Santiago
BEGIN:STANDARD
TZOFFSETFROM:-0300
TZOFFSETTO:-0400
TZNAME:-04
DTSTART:20210404T030000
END:STANDARD
BEGIN:DAYLIGHT
TZOFFSETFROM:-0400
TZOFFSETTO:-0300
TZNAME:-03
DTSTART:20210905T040000
END:DAYLIGHT
END:VTIMEZONE
BEGIN:VEVENT
DTSTART;TZID=America/Santiago:20210311T180000
DTEND;TZID=America/Santiago:20210311T190000
DTSTAMP:20260419T080937
CREATED:20210304T125123Z
LAST-MODIFIED:20210304T125123Z
UID:22389-1615485600-1615489200@fen.uahurtado.cl
SUMMARY:Seminario "Transformaciones en la organización del trabajo"
DESCRIPTION:La Facultad de Economía y Negocios UAH en conjunto con Mensaje te invitan a participar del ciclo de seminarios: “La otra cara de la crisis social: La legitimidad de la democracia en juego”. \nEn este sexto encuentro la directora del Magíster en Gestión de Personas en Organizaciones UAH\, Francisca Gutiérrez\, junto a Fabio Bertranou\, director Equipo de Trabajo OIT Cono Sur\, conversarán sobre el tema «Transformaciones en la organización del trabajo». \nModerará la actividad la periodista Sandra Radic. \nInscríbete aquí: https://bit.ly/30e1IDn\n 
URL:https://fen.uahurtado.cl/calendario/seminario-transformaciones-en-la-organizacion-del-trabajo/
END:VEVENT
END:VCALENDAR