BEGIN:VCALENDAR
VERSION:2.0
PRODID:-//Facultad de Economía y Negocios - ECPv5.14.1//NONSGML v1.0//EN
CALSCALE:GREGORIAN
METHOD:PUBLISH
X-WR-CALNAME:Facultad de Economía y Negocios
X-ORIGINAL-URL:https://fen.uahurtado.cl
X-WR-CALDESC:Eventos para Facultad de Economía y Negocios
BEGIN:VTIMEZONE
TZID:America/Santiago
BEGIN:STANDARD
TZOFFSETFROM:-0300
TZOFFSETTO:-0400
TZNAME:-04
DTSTART:20210404T030000
END:STANDARD
BEGIN:DAYLIGHT
TZOFFSETFROM:-0400
TZOFFSETTO:-0300
TZNAME:-03
DTSTART:20210905T040000
END:DAYLIGHT
END:VTIMEZONE
BEGIN:VEVENT
DTSTART;TZID=America/Santiago:20210412T150000
DTEND;TZID=America/Santiago:20210412T160000
DTSTAMP:20260419T083543
CREATED:20210408T162611Z
LAST-MODIFIED:20210412T162644Z
UID:22469-1618239600-1618243200@fen.uahurtado.cl
SUMMARY:Seminario Académico de Economía | Invitado: Sebastián Castillo\, PUC
DESCRIPTION:La Facultad de Economía y Negocios de la UAH tiene el agrado de invitarte al primer ciclo de Seminarios Académicos de Economía 2021. \nEn esta ocasión Sebastián Castillo\, Economics PhD Candidate de la Pontificia Universidad Católica de Chile presentará su trabajo «Tax Policies Design in a Hierarchical Two-Side Model with Occupational Decision». \nLunes 12 de abril\, 15:00 hrs. \n*El seminario se realizará a través de Zoom \nPara ingresar haz click aquí\n  \n  \n  \n 
URL:https://fen.uahurtado.cl/calendario/seminario-academico-de-economia-invitado-sebastian-castillo-puc/
CATEGORIES:Eventos Economía
END:VEVENT
END:VCALENDAR