BEGIN:VCALENDAR
VERSION:2.0
PRODID:-//Facultad de Economía y Negocios - ECPv5.14.1//NONSGML v1.0//EN
CALSCALE:GREGORIAN
METHOD:PUBLISH
X-WR-CALNAME:Facultad de Economía y Negocios
X-ORIGINAL-URL:https://fen.uahurtado.cl
X-WR-CALDESC:Eventos para Facultad de Economía y Negocios
BEGIN:VTIMEZONE
TZID:America/Santiago
BEGIN:STANDARD
TZOFFSETFROM:-0300
TZOFFSETTO:-0400
TZNAME:-04
DTSTART:20210404T030000
END:STANDARD
BEGIN:DAYLIGHT
TZOFFSETFROM:-0400
TZOFFSETTO:-0300
TZNAME:-03
DTSTART:20210905T040000
END:DAYLIGHT
END:VTIMEZONE
BEGIN:VEVENT
DTSTART;TZID=America/Santiago:20210526T110000
DTEND;TZID=America/Santiago:20210526T130000
DTSTAMP:20260419T160804
CREATED:20210524T172135Z
LAST-MODIFIED:20210524T172135Z
UID:22599-1622026800-1622034000@fen.uahurtado.cl
SUMMARY:Coloquios CiPP: "Más allá de la emergencia: pensar una Renta Básica Universal como política permanente"
DESCRIPTION:Expondrán en esta actividad: \nCarolina Rojas Lasch\, investigadora asociada del CiPP y académica del Departamento de Trabajo Social de la Facultad de Ciencias Sociales de la UAH. \nDía: Miércoles 26 de mayo \nHora: 11:00 y 13:00 hrs. \nModalidad: Teams \nEntra aquí\n 
URL:https://fen.uahurtado.cl/calendario/coloquios-cipp-mas-alla-de-la-emergencia-pensar-una-renta-basica-universal-como-politica-permanente/
CATEGORIES:Eventos Economía,Eventos Gestión y Negocios
END:VEVENT
END:VCALENDAR