BEGIN:VCALENDAR
VERSION:2.0
PRODID:-//Facultad de Economía y Negocios - ECPv5.14.1//NONSGML v1.0//EN
CALSCALE:GREGORIAN
METHOD:PUBLISH
X-WR-CALNAME:Facultad de Economía y Negocios
X-ORIGINAL-URL:https://fen.uahurtado.cl
X-WR-CALDESC:Eventos para Facultad de Economía y Negocios
BEGIN:VTIMEZONE
TZID:America/Santiago
BEGIN:STANDARD
TZOFFSETFROM:-0300
TZOFFSETTO:-0400
TZNAME:-04
DTSTART:20250406T030000
END:STANDARD
BEGIN:DAYLIGHT
TZOFFSETFROM:-0400
TZOFFSETTO:-0300
TZNAME:-03
DTSTART:20250907T040000
END:DAYLIGHT
END:VTIMEZONE
BEGIN:VEVENT
DTSTART;TZID=America/Santiago:20250605T180000
DTEND;TZID=America/Santiago:20250605T193000
DTSTAMP:20260425T200828
CREATED:20250526T170612Z
LAST-MODIFIED:20250526T170612Z
UID:30933-1749146400-1749151800@fen.uahurtado.cl
SUMMARY:Clase abierta - Magíster en Economía\, UAH | Crimen y economía
DESCRIPTION:Te invitamos cordialmente a participar en una clase abierta dictada por Carlos Díaz\, director del Programa de Magíster en Economía (MAE). Durante la clase\, exploraremos cómo se puede hacer investigación económica en temas tan diversos como el crimen\, la economía urbana y muchas otras áreas clave para comprender el mundo actual. \nAdemás\, conocerás en detalle el programa del Magíster en Economía\, sus líneas de investigación\, oportunidades profesionales\, y las becas de arancel disponibles hasta el 100%. \n Fecha: jueves 5 de junio\, 2025\n Hora: 18:00 hrs.\n Lugar: Sala A36\, Alameda 1825\, salida de Metro Estación Los Héroes \n¡No pierdas la oportunidad de descubrir cómo la economía puede ayudarte a entender y transformar la sociedad! \n*Esta clase se enmarca en el curso optativo “Inferencia causal”
URL:https://fen.uahurtado.cl/calendario/clase-abierta-magister-en-economia-uah-crimen-y-economia/
LOCATION:A36\, Alameda 1825\, Santiago\, Región Metropolitana\, SANTIAGO\, Chile
CATEGORIES:Eventos Economía
END:VEVENT
END:VCALENDAR