BEGIN:VCALENDAR
VERSION:2.0
PRODID:-//Facultad de Economía y Negocios - ECPv5.14.1//NONSGML v1.0//EN
CALSCALE:GREGORIAN
METHOD:PUBLISH
X-WR-CALNAME:Facultad de Economía y Negocios
X-ORIGINAL-URL:https://fen.uahurtado.cl
X-WR-CALDESC:Eventos para Facultad de Economía y Negocios
BEGIN:VTIMEZONE
TZID:America/Santiago
BEGIN:STANDARD
TZOFFSETFROM:-0300
TZOFFSETTO:-0400
TZNAME:-04
DTSTART:20190407T030000
END:STANDARD
BEGIN:DAYLIGHT
TZOFFSETFROM:-0400
TZOFFSETTO:-0300
TZNAME:-03
DTSTART:20190908T040000
END:DAYLIGHT
END:VTIMEZONE
BEGIN:VEVENT
DTSTART;TZID=America/Santiago:20190625T153000
DTEND;TZID=America/Santiago:20190625T170000
DTSTAMP:20260424T200412
CREATED:20190605T183747Z
LAST-MODIFIED:20190619T210016Z
UID:19744-1561476600-1561482000@fen.uahurtado.cl
SUMMARY:Curso: Introducción al Análisis Bayesiano usando Stata
DESCRIPTION:El Departamento de Economía de la Facultad de Economía y Negocios de la Universidad Alberto tiene el agrado de invitarle al curso “Introducción al Análisis Bayesiano usando Stata”\, dictado por Gustavo Sánchez Bizot\, Senior Statistician at StataCorp. \nEl curso se dictará el día martes 25 de junio a las 15.30 hrs\, en la sala A11\, Almirante Barroso 10. \nInscripciones con Carolina Bermeo\, cbermeo@uahurtado.cl
URL:https://fen.uahurtado.cl/calendario/curso-introduccion-al-analisis-bayesiano-usando-stata/
LOCATION:Universidad Alberto Hurtado\, Almirante Barroso 10\, Santiago\, Región Metropolitana\, 8340575\, Chile
CATEGORIES:Eventos Economía
ATTACH;FMTTYPE=image/jpeg:https://fen.uahurtado.cl/wp-content/uploads/2019/06/stata.jpg
END:VEVENT
END:VCALENDAR