BEGIN:VCALENDAR
VERSION:2.0
PRODID:-//Facultad de Economía y Negocios - ECPv5.14.1//NONSGML v1.0//EN
CALSCALE:GREGORIAN
METHOD:PUBLISH
X-WR-CALNAME:Facultad de Economía y Negocios
X-ORIGINAL-URL:https://fen.uahurtado.cl
X-WR-CALDESC:Eventos para Facultad de Economía y Negocios
BEGIN:VTIMEZONE
TZID:America/Santiago
BEGIN:STANDARD
TZOFFSETFROM:-0300
TZOFFSETTO:-0400
TZNAME:-04
DTSTART:20190407T030000
END:STANDARD
BEGIN:DAYLIGHT
TZOFFSETFROM:-0400
TZOFFSETTO:-0300
TZNAME:-03
DTSTART:20190908T040000
END:DAYLIGHT
END:VTIMEZONE
BEGIN:VEVENT
DTSTART;TZID=America/Santiago:20191204T110000
DTEND;TZID=America/Santiago:20191204T120000
DTSTAMP:20260423T005956
CREATED:20191128T140017Z
LAST-MODIFIED:20191128T140017Z
UID:20629-1575457200-1575460800@fen.uahurtado.cl
SUMMARY:Lanzamiento del libro “VIH: Vivencias e Historias”
DESCRIPTION:La Facultad de Economía y Negocios de la Universidad Alberto Hurtado lo invitan al lanzamiento del libro “VIH: Vivencias e Historias”\, realizado por el Colectivo Alihuen\, compuesto por los estudiantes de Gestión de Información\, Bibliotecología y Archivística\, Ender Andrades y María Consuelo Morales; y con las estudiantes Jocelyn Alarcón de la carrera de Pedagogía en Biología; y Estefy Medrano\, de Psicología. El libro fue editado por la editorial Los Perros Románticos. \nActualmente Chile es el país Latinoamericano con mayor aumento de nuevas transmisiones de VIH. La tasa de mortandad como consecuencia del VIH/SIDA es mayor a la media mundial. Esto es consecuencia de la deficiencia del Estado Chileno sobre salud pública\, educación sexual y acceso a la información en esta materia. \nDado esto\, Colectivo Alihuen se planteó realizar un proyecto que aportara a la agenda de género a partir de diversas actividades\, con el objetivo generar espacios de discusión en la Universidad sobre VIH/SIDA. \nEn la creación de este libro de microrelatos\, el virus no fue el protagonista\, sino que las personas que tuvieron la oportunidad de escribir sobre sus miedos\, alegrías\, sueños\, amores y separaciones. \nConfirmar asistencia alihuen.colectivo@gmail.com
URL:https://fen.uahurtado.cl/calendario/lanzamiento-del-libro-vih-vivencias-e-historias/
LOCATION:A11\, Almirante Barroso 10\, Santiago\, Metropolitana\, 000000\, Chile
CATEGORIES:Eventos Gestión y Negocios
END:VEVENT
END:VCALENDAR