BEGIN:VCALENDAR
VERSION:2.0
PRODID:-//Facultad de Economía y Negocios - ECPv5.14.1//NONSGML v1.0//EN
CALSCALE:GREGORIAN
METHOD:PUBLISH
X-WR-CALNAME:Facultad de Economía y Negocios
X-ORIGINAL-URL:https://fen.uahurtado.cl
X-WR-CALDESC:Eventos para Facultad de Economía y Negocios
BEGIN:VTIMEZONE
TZID:America/Santiago
BEGIN:STANDARD
TZOFFSETFROM:-0300
TZOFFSETTO:-0400
TZNAME:-04
DTSTART:20250406T030000
END:STANDARD
BEGIN:DAYLIGHT
TZOFFSETFROM:-0400
TZOFFSETTO:-0300
TZNAME:-03
DTSTART:20250907T040000
END:DAYLIGHT
END:VTIMEZONE
BEGIN:VEVENT
DTSTART;TZID=America/Santiago:20250303T090000
DTEND;TZID=America/Santiago:20250308T173000
DTSTAMP:20260422T124042
CREATED:20250131T190815Z
LAST-MODIFIED:20250131T190815Z
UID:30113-1740992400-1741455000@fen.uahurtado.cl
SUMMARY:Propedéutico matemáticas
DESCRIPTION:Para facilitar tu integración a la vida universitaria y mejorar tus conocimientos en matemática\, es fundamental que participes en nuestro curso de nivelación. Este programa propedéutico se llevará a cabo una semana antes del inicio oficial de las clases\, del lunes 3 de marzo al sábado 8 de marzo\, en Erasmo Escala N° 1822. Adjunto a este correo encontrarás el programa del propedéutico/nivelación de matemática\, te invito a revisarlo. Será una excelente oportunidad para conocer a tus compañeros y docentes\, así como para comenzar a construir juntos esta nueva etapa. ¡No te lo pierdas!
URL:https://fen.uahurtado.cl/calendario/propedeutico-matematicas/
CATEGORIES:Eventos Economía,Eventos Gestión y Negocios
END:VEVENT
END:VCALENDAR