BEGIN:VCALENDAR
VERSION:2.0
PRODID:-//Facultad de Economía y Negocios - ECPv5.14.1//NONSGML v1.0//EN
CALSCALE:GREGORIAN
METHOD:PUBLISH
X-WR-CALNAME:Facultad de Economía y Negocios
X-ORIGINAL-URL:https://fen.uahurtado.cl
X-WR-CALDESC:Eventos para Facultad de Economía y Negocios
BEGIN:VTIMEZONE
TZID:America/Santiago
BEGIN:STANDARD
TZOFFSETFROM:-0300
TZOFFSETTO:-0400
TZNAME:-04
DTSTART:20250406T030000
END:STANDARD
BEGIN:DAYLIGHT
TZOFFSETFROM:-0400
TZOFFSETTO:-0300
TZNAME:-03
DTSTART:20250907T040000
END:DAYLIGHT
END:VTIMEZONE
BEGIN:VEVENT
DTSTART;TZID=America/Santiago:20250512T143000
DTEND;TZID=America/Santiago:20250512T153000
DTSTAMP:20260425T200855
CREATED:20250506T153122Z
LAST-MODIFIED:20250506T153122Z
UID:30753-1747060200-1747063800@fen.uahurtado.cl
SUMMARY:Seminario académico de economía | Invitado: Matías Morales Cerda\, Universidad de Tulane
DESCRIPTION:La Facultad de Economía y Negocios de la Universidad Alberto Hurtado tiene el agrado de invitarte a un nuevo Seminario Académico de Economía 2025. \nEn esta ocasión Matías Morales Cerda\, Investigador Postdoctoral Universidad de Tulane\, presentará el trabajo «The effectiveness of private schools in Chile: Evidence from centralized assignment lotteries»\, co- escrito con Fidel Bennett\, Dante Contreras and Felipe Subiabre. \nLunes 12 de mayo |14:30 horas | Sala L11\, Cienfuegos 46
URL:https://fen.uahurtado.cl/calendario/seminario-academico-de-economia-invitado-matias-morales-cerda-universidad-de-tulane/
LOCATION:L11\, Cienfuegos 46\, Santiago\, Región Metropolitana\, SANTIAGO\, Chile
CATEGORIES:Eventos Economía
END:VEVENT
END:VCALENDAR