BEGIN:VCALENDAR
VERSION:2.0
PRODID:-//Facultad de Economía y Negocios - ECPv5.14.1//NONSGML v1.0//EN
CALSCALE:GREGORIAN
METHOD:PUBLISH
X-WR-CALNAME:Facultad de Economía y Negocios
X-ORIGINAL-URL:https://fen.uahurtado.cl
X-WR-CALDESC:Eventos para Facultad de Economía y Negocios
BEGIN:VTIMEZONE
TZID:America/Santiago
BEGIN:STANDARD
TZOFFSETFROM:-0300
TZOFFSETTO:-0400
TZNAME:-04
DTSTART:20190407T030000
END:STANDARD
BEGIN:DAYLIGHT
TZOFFSETFROM:-0400
TZOFFSETTO:-0300
TZNAME:-03
DTSTART:20190908T040000
END:DAYLIGHT
END:VTIMEZONE
BEGIN:VEVENT
DTSTART;VALUE=DATE:20190626
DTEND;VALUE=DATE:20190628
DTSTAMP:20260425T065852
CREATED:20190608T124224Z
LAST-MODIFIED:20190608T124224Z
UID:19810-1561507200-1561679999@fen.uahurtado.cl
SUMMARY:Séptimo ciclo Diplomado Gestión Sindical
DESCRIPTION:Lugar: Maison de France\, San Crescente 451\, Santiago\, Región Metropolitana.\nFecha y horario: 26 y 27 de junio\, 9:00 hrs.
URL:https://fen.uahurtado.cl/calendario/septimo-ciclo-diplomado-gestion-sindical/
LOCATION:Maison de France\, San Crescente 451\, Santiago\, Región Metropolitana\, Chile
CATEGORIES:Eventos Gestión y Negocios
END:VEVENT
END:VCALENDAR