BEGIN:VCALENDAR
VERSION:2.0
PRODID:-//Facultad de Economía y Negocios - ECPv5.14.1//NONSGML v1.0//EN
CALSCALE:GREGORIAN
METHOD:PUBLISH
X-WR-CALNAME:Facultad de Economía y Negocios
X-ORIGINAL-URL:https://fen.uahurtado.cl
X-WR-CALDESC:Eventos para Facultad de Economía y Negocios
BEGIN:VTIMEZONE
TZID:America/Santiago
BEGIN:STANDARD
TZOFFSETFROM:-0300
TZOFFSETTO:-0400
TZNAME:-04
DTSTART:20250406T030000
END:STANDARD
BEGIN:DAYLIGHT
TZOFFSETFROM:-0400
TZOFFSETTO:-0300
TZNAME:-03
DTSTART:20250907T040000
END:DAYLIGHT
END:VTIMEZONE
BEGIN:VEVENT
DTSTART;TZID=America/Santiago:20250603T103000
DTEND;TZID=America/Santiago:20250603T130000
DTSTAMP:20260422T185028
CREATED:20250527T140804Z
LAST-MODIFIED:20250527T154840Z
UID:30939-1748946600-1748955600@fen.uahurtado.cl
SUMMARY:Stand Informativo | Empresa auditora y consultora RSM
DESCRIPTION:La Facultad de Economía y Negocios de la UAH\, en conjunto con la firma auditora y consultora RSM\, invita a las y los estudiantes de último año de Ingeniería Comercial y Contador Público Auditor a visitar el stand informativo que se instalará en el patio de la FEN. \nDurante la jornada\, podrás conocer en detalle los programas de práctica profesional que ofrece la empresa\, resolver tus dudas y acercarte a una experiencia laboral vinculada a tu carrera. \nMartes 3 de junio\nDe 10:30 a 13:00 hrs\nPatio de la Facultad de Economía y Negocios (FEN) \n¡No te pierdas la oportunidad de conocer más sobre sus programas de práctica y comenzar tu camino profesional con una de las firmas más importantes del rubro!
URL:https://fen.uahurtado.cl/calendario/stand-informativo-empresa-auditora-y-consultora-rsm/
LOCATION:Patio Facultad de Economía y Negocios UAH\, Erasmo Escala 1835\, Santiago\, Región Metropolitana\, Chile
END:VEVENT
END:VCALENDAR